BEGIN:VCALENDAR
VERSION:2.0
PRODID:-//WCS - ECPv6.15.20//NONSGML v1.0//EN
CALSCALE:GREGORIAN
METHOD:PUBLISH
X-WR-CALNAME:WCS
X-ORIGINAL-URL:https://www.whitinsvillechristian.org
X-WR-CALDESC:Events for WCS
REFRESH-INTERVAL;VALUE=DURATION:PT1H
X-Robots-Tag:noindex
X-PUBLISHED-TTL:PT1H
BEGIN:VTIMEZONE
TZID:America/New_York
BEGIN:DAYLIGHT
TZOFFSETFROM:-0500
TZOFFSETTO:-0400
TZNAME:EDT
DTSTART:20240310T070000
END:DAYLIGHT
BEGIN:STANDARD
TZOFFSETFROM:-0400
TZOFFSETTO:-0500
TZNAME:EST
DTSTART:20241103T060000
END:STANDARD
BEGIN:DAYLIGHT
TZOFFSETFROM:-0500
TZOFFSETTO:-0400
TZNAME:EDT
DTSTART:20250309T070000
END:DAYLIGHT
BEGIN:STANDARD
TZOFFSETFROM:-0400
TZOFFSETTO:-0500
TZNAME:EST
DTSTART:20251102T060000
END:STANDARD
BEGIN:DAYLIGHT
TZOFFSETFROM:-0500
TZOFFSETTO:-0400
TZNAME:EDT
DTSTART:20260308T070000
END:DAYLIGHT
BEGIN:STANDARD
TZOFFSETFROM:-0400
TZOFFSETTO:-0500
TZNAME:EST
DTSTART:20261101T060000
END:STANDARD
BEGIN:DAYLIGHT
TZOFFSETFROM:-0500
TZOFFSETTO:-0400
TZNAME:EDT
DTSTART:20270314T070000
END:DAYLIGHT
BEGIN:STANDARD
TZOFFSETFROM:-0400
TZOFFSETTO:-0500
TZNAME:EST
DTSTART:20271107T060000
END:STANDARD
END:VTIMEZONE
BEGIN:VEVENT
DTSTART;VALUE=DATE:20260416
DTEND;VALUE=DATE:20260419
DTSTAMP:20260421T165456
CREATED:20250923T151500Z
LAST-MODIFIED:20260304T202422Z
UID:30921-1776297600-1776556799@www.whitinsvillechristian.org
SUMMARY:HS Spring Musical
DESCRIPTION:HS Spring Musical
URL:https://www.whitinsvillechristian.org/event/hs-spring-musical/
LOCATION:Nehemiah Center for Worship and Arts\, 279 Linwood Ave\, Whitinsville\, MA\, 01588\, United States
CATEGORIES:Arts,Drama
ORGANIZER;CN="Whitinsville Christian School":MAILTO:info@whitinsvillechristian.org
END:VEVENT
BEGIN:VEVENT
DTSTART;TZID=America/New_York:20260331T183000
DTEND;TZID=America/New_York:20260331T200000
DTSTAMP:20260421T165456
CREATED:20250923T151425Z
LAST-MODIFIED:20260301T133413Z
UID:30919-1774981800-1774987200@www.whitinsvillechristian.org
SUMMARY:Senior Fine Arts Showcase & Recital
DESCRIPTION:Senior Fine Arts Showcase & Recital
URL:https://www.whitinsvillechristian.org/event/senior-fine-arts-showcase-recital/
LOCATION:Nehemiah Center for Worship and Arts\, 279 Linwood Ave\, Whitinsville\, MA\, 01588\, United States
CATEGORIES:Arts,Drama,Instrumental,Strings,Visual Arts,Vocal
ORGANIZER;CN="Whitinsville Christian School":MAILTO:info@whitinsvillechristian.org
END:VEVENT
BEGIN:VEVENT
DTSTART;TZID=America/New_York:20260312T183000
DTEND;TZID=America/New_York:20260312T193000
DTSTAMP:20260421T165456
CREATED:20250923T151332Z
LAST-MODIFIED:20250923T151332Z
UID:30917-1773340200-1773343800@www.whitinsvillechristian.org
SUMMARY:Suzuki Concert
DESCRIPTION:Suzuki Concert
URL:https://www.whitinsvillechristian.org/event/suzuki-concert/
LOCATION:Nehemiah Center for Worship and Arts\, 279 Linwood Ave\, Whitinsville\, MA\, 01588\, United States
CATEGORIES:Arts,Strings
ORGANIZER;CN="Whitinsville Christian School":MAILTO:info@whitinsvillechristian.org
END:VEVENT
BEGIN:VEVENT
DTSTART;TZID=America/New_York:20260307T140000
DTEND;TZID=America/New_York:20260307T160000
DTSTAMP:20260421T165456
CREATED:20260125T184052Z
LAST-MODIFIED:20260125T184052Z
UID:32853-1772892000-1772899200@www.whitinsvillechristian.org
SUMMARY:WCMS Drama - The Snow White Variety Show
DESCRIPTION:WCMS Drama presents the Snow White Variety Show March 6 at 7pm and March 7 at 2pm in the Nehemiah Center for Performing Arts. Please check back soon for ticket availability
URL:https://www.whitinsvillechristian.org/event/wcms-play-2/
LOCATION:Nehemiah Center for Worship and Arts\, 279 Linwood Ave\, Whitinsville\, MA\, 01588\, United States
CATEGORIES:Arts,Drama
ATTACH;FMTTYPE=image/jpeg:https://www.whitinsvillechristian.org/wp-content/uploads/2025/09/Snow-White-Variety-Show-color-landscape.jpg
ORGANIZER;CN="Whitinsville Christian School":MAILTO:info@whitinsvillechristian.org
END:VEVENT
BEGIN:VEVENT
DTSTART;TZID=America/New_York:20260306T190000
DTEND;TZID=America/New_York:20260306T210000
DTSTAMP:20260421T165456
CREATED:20260123T160434Z
LAST-MODIFIED:20260125T183953Z
UID:30912-1772823600-1772830800@www.whitinsvillechristian.org
SUMMARY:WCMS Drama - The Snow White Variety Show
DESCRIPTION:WCMS Drama presents the Snow White Variety Show March 6 at 7pm and March 7 at 2pm in the Nehemiah Center for Performing Arts. Please check back soon for ticket availability
URL:https://www.whitinsvillechristian.org/event/wcms-play/
LOCATION:Nehemiah Center for Worship and Arts\, 279 Linwood Ave\, Whitinsville\, MA\, 01588\, United States
CATEGORIES:Arts,Drama
ATTACH;FMTTYPE=image/jpeg:https://www.whitinsvillechristian.org/wp-content/uploads/2025/09/Snow-White-Variety-Show-color-landscape.jpg
ORGANIZER;CN="Whitinsville Christian School":MAILTO:info@whitinsvillechristian.org
END:VEVENT
BEGIN:VEVENT
DTSTART;TZID=America/New_York:20260210T183000
DTEND;TZID=America/New_York:20260210T193000
DTSTAMP:20260421T165456
CREATED:20250923T150322Z
LAST-MODIFIED:20250923T150322Z
UID:30910-1770748200-1770751800@www.whitinsvillechristian.org
SUMMARY:Strings WINTER Recital
DESCRIPTION:Strings WINTER Recital
URL:https://www.whitinsvillechristian.org/event/strings-winter-recital/
LOCATION:Nehemiah Center for Worship and Arts\, 279 Linwood Ave\, Whitinsville\, MA\, 01588\, United States
CATEGORIES:Arts,Strings
ORGANIZER;CN="Whitinsville Christian School":MAILTO:info@whitinsvillechristian.org
END:VEVENT
BEGIN:VEVENT
DTSTART;VALUE=DATE:20260117
DTEND;VALUE=DATE:20260118
DTSTAMP:20260421T165456
CREATED:20250923T150236Z
LAST-MODIFIED:20250923T150236Z
UID:30907-1768608000-1768694399@www.whitinsvillechristian.org
SUMMARY:HS Central Districts Concert
DESCRIPTION:HS Central Districts Concert
URL:https://www.whitinsvillechristian.org/event/hs-central-districts-concert/
LOCATION:Mechanics Hall\, 321 Main St\, Worcester\, MA\, 01608\, United States
CATEGORIES:Arts,Instrumental,Vocal
END:VEVENT
BEGIN:VEVENT
DTSTART;TZID=America/New_York:20260110T190000
DTEND;TZID=America/New_York:20260110T210000
DTSTAMP:20260421T165456
CREATED:20250923T150008Z
LAST-MODIFIED:20250923T150014Z
UID:30905-1768071600-1768078800@www.whitinsvillechristian.org
SUMMARY:WCHS Play “12 Angry Jurors”
DESCRIPTION:WCHS Play “12 Angry Jurors”
URL:https://www.whitinsvillechristian.org/event/wchs-play-12-angry-jurors-2/
LOCATION:Nehemiah Center for Worship and Arts\, 279 Linwood Ave\, Whitinsville\, MA\, 01588\, United States
CATEGORIES:Arts,Drama
ORGANIZER;CN="Whitinsville Christian School":MAILTO:info@whitinsvillechristian.org
END:VEVENT
BEGIN:VEVENT
DTSTART;TZID=America/New_York:20260109T190000
DTEND;TZID=America/New_York:20260109T210000
DTSTAMP:20260421T165456
CREATED:20250923T145544Z
LAST-MODIFIED:20250923T145544Z
UID:30902-1767985200-1767992400@www.whitinsvillechristian.org
SUMMARY:WCHS Play “12 Angry Jurors”
DESCRIPTION:WCHS Play “12 Angry Jurors”
URL:https://www.whitinsvillechristian.org/event/wchs-play-12-angry-jurors/
LOCATION:Nehemiah Center for Worship and Arts\, 279 Linwood Ave\, Whitinsville\, MA\, 01588\, United States
CATEGORIES:Arts,Drama
ORGANIZER;CN="Whitinsville Christian School":MAILTO:info@whitinsvillechristian.org
END:VEVENT
BEGIN:VEVENT
DTSTART;TZID=America/New_York:20251212T103000
DTEND;TZID=America/New_York:20251212T113000
DTSTAMP:20260421T165456
CREATED:20250923T145452Z
LAST-MODIFIED:20250923T145452Z
UID:30900-1765535400-1765539000@www.whitinsvillechristian.org
SUMMARY:Preschool Nativity Christmas Performance
DESCRIPTION:Preschool Nativity Christmas Performance
URL:https://www.whitinsvillechristian.org/event/preschool-nativity-christmas-performance/
LOCATION:Nehemiah Center for Worship and Arts\, 279 Linwood Ave\, Whitinsville\, MA\, 01588\, United States
CATEGORIES:Arts
ORGANIZER;CN="Whitinsville Christian School":MAILTO:info@whitinsvillechristian.org
END:VEVENT
BEGIN:VEVENT
DTSTART;TZID=America/New_York:20251211T190000
DTEND;TZID=America/New_York:20251211T200000
DTSTAMP:20260421T165456
CREATED:20250923T145408Z
LAST-MODIFIED:20250923T145408Z
UID:30898-1765479600-1765483200@www.whitinsvillechristian.org
SUMMARY:Elementary Christmas Show 3-5
DESCRIPTION:Elementary Christmas Show 3-5
URL:https://www.whitinsvillechristian.org/event/elementary-christmas-show-3-5/
LOCATION:Nehemiah Center for Worship and Arts\, 279 Linwood Ave\, Whitinsville\, MA\, 01588\, United States
CATEGORIES:Arts
ORGANIZER;CN="Whitinsville Christian School":MAILTO:info@whitinsvillechristian.org
END:VEVENT
BEGIN:VEVENT
DTSTART;TZID=America/New_York:20251211T170000
DTEND;TZID=America/New_York:20251211T180000
DTSTAMP:20260421T165456
CREATED:20250923T145302Z
LAST-MODIFIED:20250923T145302Z
UID:30896-1765472400-1765476000@www.whitinsvillechristian.org
SUMMARY:Elementary Christmas Show - K-2
DESCRIPTION:Elementary Christmas Show: K-2
URL:https://www.whitinsvillechristian.org/event/elementary-christmas-show-k-2/
LOCATION:Nehemiah Center for Worship and Arts\, 279 Linwood Ave\, Whitinsville\, MA\, 01588\, United States
CATEGORIES:Arts
ORGANIZER;CN="Whitinsville Christian School":MAILTO:info@whitinsvillechristian.org
END:VEVENT
BEGIN:VEVENT
DTSTART;VALUE=DATE:20251206
DTEND;VALUE=DATE:20251207
DTSTAMP:20260421T165456
CREATED:20250923T144837Z
LAST-MODIFIED:20250923T144845Z
UID:30893-1764979200-1765065599@www.whitinsvillechristian.org
SUMMARY:Festival of Trees
DESCRIPTION:Festival of Trees
URL:https://www.whitinsvillechristian.org/event/festival-of-trees/
LOCATION:Northbridge Town Hall\, 7 Main St\,\, Whitinsville\, MA\, 01588\, United States
CATEGORIES:Arts
END:VEVENT
BEGIN:VEVENT
DTSTART;VALUE=DATE:20251205
DTEND;VALUE=DATE:20251206
DTSTAMP:20260421T165456
CREATED:20250923T143001Z
LAST-MODIFIED:20250923T143001Z
UID:30887-1764892800-1764979199@www.whitinsvillechristian.org
SUMMARY:Christmas Concert
DESCRIPTION:Christmas Concert @ Valley Chapel 
URL:https://www.whitinsvillechristian.org/event/christmas-concert/
LOCATION:Valley Chapel\, 14 Hunter Rd\, Uxbridge\, MA\, 01588\, United States
CATEGORIES:Arts,Instrumental,Vocal
ORGANIZER;CN="Whitinsville Christian School":MAILTO:info@whitinsvillechristian.org
END:VEVENT
BEGIN:VEVENT
DTSTART;TZID=America/New_York:20251120T183000
DTEND;TZID=America/New_York:20251120T193000
DTSTAMP:20260421T165456
CREATED:20250923T142436Z
LAST-MODIFIED:20250923T142436Z
UID:30884-1763663400-1763667000@www.whitinsvillechristian.org
SUMMARY:Strings Fall Recital
DESCRIPTION:Strings Fall Recital #1
URL:https://www.whitinsvillechristian.org/event/strings-fall-recital/
LOCATION:Nehemiah Center for Worship and Arts\, 279 Linwood Ave\, Whitinsville\, MA\, 01588\, United States
CATEGORIES:Arts,Strings
ORGANIZER;CN="Whitinsville Christian School":MAILTO:info@whitinsvillechristian.org
END:VEVENT
BEGIN:VEVENT
DTSTART;TZID=America/New_York:20251009T183000
DTEND;TZID=America/New_York:20251009T200000
DTSTAMP:20260421T165456
CREATED:20250923T142336Z
LAST-MODIFIED:20250923T142336Z
UID:30882-1760034600-1760040000@www.whitinsvillechristian.org
SUMMARY:Pops Concert
DESCRIPTION:Featuring: \nHS Band\, HS Orchestra\, HS Choir
URL:https://www.whitinsvillechristian.org/event/pops-concert/
LOCATION:Nehemiah Center for Worship and Arts\, 279 Linwood Ave\, Whitinsville\, MA\, 01588\, United States
CATEGORIES:Instrumental,Vocal
ORGANIZER;CN="Whitinsville Christian School":MAILTO:info@whitinsvillechristian.org
END:VEVENT
END:VCALENDAR