BEGIN:VCALENDAR
VERSION:2.0
PRODID:-//WCS - ECPv6.15.20//NONSGML v1.0//EN
CALSCALE:GREGORIAN
METHOD:PUBLISH
X-WR-CALNAME:WCS
X-ORIGINAL-URL:https://www.whitinsvillechristian.org
X-WR-CALDESC:Events for WCS
REFRESH-INTERVAL;VALUE=DURATION:PT1H
X-Robots-Tag:noindex
X-PUBLISHED-TTL:PT1H
BEGIN:VTIMEZONE
TZID:America/New_York
BEGIN:DAYLIGHT
TZOFFSETFROM:-0500
TZOFFSETTO:-0400
TZNAME:EDT
DTSTART:20240310T070000
END:DAYLIGHT
BEGIN:STANDARD
TZOFFSETFROM:-0400
TZOFFSETTO:-0500
TZNAME:EST
DTSTART:20241103T060000
END:STANDARD
BEGIN:DAYLIGHT
TZOFFSETFROM:-0500
TZOFFSETTO:-0400
TZNAME:EDT
DTSTART:20250309T070000
END:DAYLIGHT
BEGIN:STANDARD
TZOFFSETFROM:-0400
TZOFFSETTO:-0500
TZNAME:EST
DTSTART:20251102T060000
END:STANDARD
BEGIN:DAYLIGHT
TZOFFSETFROM:-0500
TZOFFSETTO:-0400
TZNAME:EDT
DTSTART:20260308T070000
END:DAYLIGHT
BEGIN:STANDARD
TZOFFSETFROM:-0400
TZOFFSETTO:-0500
TZNAME:EST
DTSTART:20261101T060000
END:STANDARD
BEGIN:DAYLIGHT
TZOFFSETFROM:-0500
TZOFFSETTO:-0400
TZNAME:EDT
DTSTART:20270314T070000
END:DAYLIGHT
BEGIN:STANDARD
TZOFFSETFROM:-0400
TZOFFSETTO:-0500
TZNAME:EST
DTSTART:20271107T060000
END:STANDARD
END:VTIMEZONE
BEGIN:VEVENT
DTSTART;TZID=America/New_York:20260331T183000
DTEND;TZID=America/New_York:20260331T200000
DTSTAMP:20260421T192125
CREATED:20250923T151425Z
LAST-MODIFIED:20260301T133413Z
UID:30919-1774981800-1774987200@www.whitinsvillechristian.org
SUMMARY:Senior Fine Arts Showcase & Recital
DESCRIPTION:Senior Fine Arts Showcase & Recital
URL:https://www.whitinsvillechristian.org/event/senior-fine-arts-showcase-recital/
LOCATION:Nehemiah Center for Worship and Arts\, 279 Linwood Ave\, Whitinsville\, MA\, 01588\, United States
CATEGORIES:Arts,Drama,Instrumental,Strings,Visual Arts,Vocal
ORGANIZER;CN="Whitinsville Christian School":MAILTO:info@whitinsvillechristian.org
END:VEVENT
BEGIN:VEVENT
DTSTART;TZID=America/New_York:20260312T183000
DTEND;TZID=America/New_York:20260312T193000
DTSTAMP:20260421T192125
CREATED:20250923T151332Z
LAST-MODIFIED:20250923T151332Z
UID:30917-1773340200-1773343800@www.whitinsvillechristian.org
SUMMARY:Suzuki Concert
DESCRIPTION:Suzuki Concert
URL:https://www.whitinsvillechristian.org/event/suzuki-concert/
LOCATION:Nehemiah Center for Worship and Arts\, 279 Linwood Ave\, Whitinsville\, MA\, 01588\, United States
CATEGORIES:Arts,Strings
ORGANIZER;CN="Whitinsville Christian School":MAILTO:info@whitinsvillechristian.org
END:VEVENT
BEGIN:VEVENT
DTSTART;TZID=America/New_York:20260210T183000
DTEND;TZID=America/New_York:20260210T193000
DTSTAMP:20260421T192125
CREATED:20250923T150322Z
LAST-MODIFIED:20250923T150322Z
UID:30910-1770748200-1770751800@www.whitinsvillechristian.org
SUMMARY:Strings WINTER Recital
DESCRIPTION:Strings WINTER Recital
URL:https://www.whitinsvillechristian.org/event/strings-winter-recital/
LOCATION:Nehemiah Center for Worship and Arts\, 279 Linwood Ave\, Whitinsville\, MA\, 01588\, United States
CATEGORIES:Arts,Strings
ORGANIZER;CN="Whitinsville Christian School":MAILTO:info@whitinsvillechristian.org
END:VEVENT
BEGIN:VEVENT
DTSTART;TZID=America/New_York:20251120T183000
DTEND;TZID=America/New_York:20251120T193000
DTSTAMP:20260421T192125
CREATED:20250923T142436Z
LAST-MODIFIED:20250923T142436Z
UID:30884-1763663400-1763667000@www.whitinsvillechristian.org
SUMMARY:Strings Fall Recital
DESCRIPTION:Strings Fall Recital #1
URL:https://www.whitinsvillechristian.org/event/strings-fall-recital/
LOCATION:Nehemiah Center for Worship and Arts\, 279 Linwood Ave\, Whitinsville\, MA\, 01588\, United States
CATEGORIES:Arts,Strings
ORGANIZER;CN="Whitinsville Christian School":MAILTO:info@whitinsvillechristian.org
END:VEVENT
END:VCALENDAR