BEGIN:VCALENDAR
VERSION:2.0
PRODID:-//WCS - ECPv6.15.20//NONSGML v1.0//EN
CALSCALE:GREGORIAN
METHOD:PUBLISH
X-WR-CALNAME:WCS
X-ORIGINAL-URL:https://www.whitinsvillechristian.org
X-WR-CALDESC:Events for WCS
REFRESH-INTERVAL;VALUE=DURATION:PT1H
X-Robots-Tag:noindex
X-PUBLISHED-TTL:PT1H
BEGIN:VTIMEZONE
TZID:America/New_York
BEGIN:DAYLIGHT
TZOFFSETFROM:-0500
TZOFFSETTO:-0400
TZNAME:EDT
DTSTART:20250309T070000
END:DAYLIGHT
BEGIN:STANDARD
TZOFFSETFROM:-0400
TZOFFSETTO:-0500
TZNAME:EST
DTSTART:20251102T060000
END:STANDARD
BEGIN:DAYLIGHT
TZOFFSETFROM:-0500
TZOFFSETTO:-0400
TZNAME:EDT
DTSTART:20260308T070000
END:DAYLIGHT
BEGIN:STANDARD
TZOFFSETFROM:-0400
TZOFFSETTO:-0500
TZNAME:EST
DTSTART:20261101T060000
END:STANDARD
BEGIN:DAYLIGHT
TZOFFSETFROM:-0500
TZOFFSETTO:-0400
TZNAME:EDT
DTSTART:20270314T070000
END:DAYLIGHT
BEGIN:STANDARD
TZOFFSETFROM:-0400
TZOFFSETTO:-0500
TZNAME:EST
DTSTART:20271107T060000
END:STANDARD
END:VTIMEZONE
BEGIN:VEVENT
DTSTART;TZID=America/New_York:20260306T190000
DTEND;TZID=America/New_York:20260306T210000
DTSTAMP:20260421T215549
CREATED:20260123T160434Z
LAST-MODIFIED:20260125T183953Z
UID:30912-1772823600-1772830800@www.whitinsvillechristian.org
SUMMARY:WCMS Drama - The Snow White Variety Show
DESCRIPTION:WCMS Drama presents the Snow White Variety Show March 6 at 7pm and March 7 at 2pm in the Nehemiah Center for Performing Arts. Please check back soon for ticket availability
URL:https://www.whitinsvillechristian.org/event/wcms-play/
LOCATION:Nehemiah Center for Worship and Arts\, 279 Linwood Ave\, Whitinsville\, MA\, 01588\, United States
CATEGORIES:Arts,Drama
ATTACH;FMTTYPE=image/jpeg:https://www.whitinsvillechristian.org/wp-content/uploads/2025/09/Snow-White-Variety-Show-color-landscape.jpg
ORGANIZER;CN="Whitinsville Christian School":MAILTO:info@whitinsvillechristian.org
END:VEVENT
END:VCALENDAR